BEGIN:VCALENDAR
VERSION:2.0
PRODID:-//hacksw/handcal//NONSGML v1.0//EN
CALSCALE:GREGORIAN
BEGIN:VEVENT
DTSTART:20130110T110000Z
DTEND:20130110T110000Z
UID:e12933
DTSTAMP:20260421T221732Z
LOCATION:Wolfson Building for Biological Research
DESCRIPTION:Cytokines and CD4 T Cells:  Dance Partners at the Immunology Ball
SUMMARY:Cytokines and CD4 T Cells:  Dance Partners at the Immunology Ball
END:VEVENT
END:VCALENDAR