BEGIN:VCALENDAR
VERSION:2.0
PRODID:-//hacksw/handcal//NONSGML v1.0//EN
CALSCALE:GREGORIAN
BEGIN:VEVENT
DTSTART:20121231T111500Z
DTEND:20121231T111500Z
UID:e12954
DTSTAMP:20260420T000142Z
LOCATION:Edna and K.B. Weissman Building of Physical Sciences
DESCRIPTION:The Asymmetric Inclusion Process 
SUMMARY:The Asymmetric Inclusion Process 
END:VEVENT
END:VCALENDAR