BEGIN:VCALENDAR
VERSION:2.0
PRODID:-//hacksw/handcal//NONSGML v1.0//EN
CALSCALE:GREGORIAN
BEGIN:VEVENT
DTSTART:20121230T083000Z
DTEND:20121230T093000Z
UID:e12984
DTSTAMP:20260423T220651Z
LOCATION:Nella and Leon Benoziyo Physics Building
DESCRIPTION:Tidal disruption of stars and binaries by massive Objects
SUMMARY:Tidal disruption of stars and binaries by massive Objects
END:VEVENT
END:VCALENDAR