BEGIN:VCALENDAR
VERSION:2.0
PRODID:-//hacksw/handcal//NONSGML v1.0//EN
CALSCALE:GREGORIAN
BEGIN:VEVENT
DTSTART:20130310T173000Z
DTEND:20130310T173000Z
UID:e12987
DTSTAMP:20260423T035730Z
LOCATION:Michael Sela Auditorium
DESCRIPTION:Harsh People
SUMMARY:Harsh People
END:VEVENT
END:VCALENDAR