BEGIN:VCALENDAR
VERSION:2.0
PRODID:-//hacksw/handcal//NONSGML v1.0//EN
CALSCALE:GREGORIAN
BEGIN:VEVENT
DTSTART:20130226T080000Z
DTEND:20130226T080000Z
UID:e13050
DTSTAMP:20260422T190448Z
LOCATION:Jacob Ziskind Building
DESCRIPTION:Spatial Periodic Forcing Can Displace Patterns It Is Intended to Control
SUMMARY:Spatial Periodic Forcing Can Displace Patterns It Is Intended to Control
END:VEVENT
END:VCALENDAR