BEGIN:VCALENDAR
VERSION:2.0
PRODID:-//hacksw/handcal//NONSGML v1.0//EN
CALSCALE:GREGORIAN
BEGIN:VEVENT
DTSTART:20130219T130000Z
DTEND:20130219T130000Z
UID:e13083
DTSTAMP:20260422T024507Z
LOCATION:Jacob Ziskind Building
DESCRIPTION:On equilibrium measures for henon maps at the first bifurcation
SUMMARY:On equilibrium measures for henon maps at the first bifurcation
END:VEVENT
END:VCALENDAR