BEGIN:VCALENDAR
VERSION:2.0
PRODID:-//hacksw/handcal//NONSGML v1.0//EN
CALSCALE:GREGORIAN
BEGIN:VEVENT
DTSTART:20130210T100000Z
DTEND:20130210T100000Z
UID:e13119
DTSTAMP:20260423T053800Z
LOCATION:Arthur and Rochelle Belfer Building for Biomedical Research
DESCRIPTION:Monitoring Protein-Protein Interactions Within the Cell Death Network
SUMMARY:Monitoring Protein-Protein Interactions Within the Cell Death Network
END:VEVENT
END:VCALENDAR