BEGIN:VCALENDAR
VERSION:2.0
PRODID:-//hacksw/handcal//NONSGML v1.0//EN
CALSCALE:GREGORIAN
BEGIN:VEVENT
DTSTART:20130607T050000Z
DTEND:20130607T120000Z
UID:e13134
DTSTAMP:20260422T172123Z
LOCATION:Michael Sela Auditorium
DESCRIPTION:AMEN Annual Meeting
SUMMARY:AMEN Annual Meeting
END:VEVENT
END:VCALENDAR