BEGIN:VCALENDAR
VERSION:2.0
PRODID:-//hacksw/handcal//NONSGML v1.0//EN
CALSCALE:GREGORIAN
BEGIN:VEVENT
DTSTART:20130318T080000Z
DTEND:20130318T093000Z
UID:e13248
DTSTAMP:20260419T234621Z
LOCATION:Gerhard M.J. Schmidt Lecture Hall
DESCRIPTION:Faculty of Chemistry Colloquium -  Prof. Ulf Leonhardt
SUMMARY:Faculty of Chemistry Colloquium -  Prof. Ulf Leonhardt
END:VEVENT
END:VCALENDAR