BEGIN:VCALENDAR
VERSION:2.0
PRODID:-//hacksw/handcal//NONSGML v1.0//EN
CALSCALE:GREGORIAN
BEGIN:VEVENT
DTSTART:20130620T100000Z
DTEND:20130620T100000Z
UID:e13548
DTSTAMP:20260422T011151Z
LOCATION:Dannie N. Heineman Laboratory
DESCRIPTION:Mechano - chemistry: the next nanotechnology frontier
SUMMARY:Mechano - chemistry: the next nanotechnology frontier
END:VEVENT
END:VCALENDAR