BEGIN:VCALENDAR
VERSION:2.0
PRODID:-//hacksw/handcal//NONSGML v1.0//EN
CALSCALE:GREGORIAN
BEGIN:VEVENT
DTSTART:20140408T091500Z
DTEND:20140408T091500Z
UID:e13737
DTSTAMP:20260423T141549Z
LOCATION:Wolfson Building for Biological Research
DESCRIPTION:Proteomic analysis of mutant RAC1 in melanoma
SUMMARY:Proteomic analysis of mutant RAC1 in melanoma
END:VEVENT
END:VCALENDAR