BEGIN:VCALENDAR
VERSION:2.0
PRODID:-//hacksw/handcal//NONSGML v1.0//EN
CALSCALE:GREGORIAN
BEGIN:VEVENT
DTSTART:20131017T080000Z
DTEND:20131017T080000Z
UID:e13834
DTSTAMP:20260420T172559Z
LOCATION:Jacob Ziskind Building
DESCRIPTION:The Power of Two Choices and Preferential Attachment 
SUMMARY:The Power of Two Choices and Preferential Attachment 
END:VEVENT
END:VCALENDAR