BEGIN:VCALENDAR
VERSION:2.0
PRODID:-//hacksw/handcal//NONSGML v1.0//EN
CALSCALE:GREGORIAN
BEGIN:VEVENT
DTSTART:20141201T080000Z
DTEND:20141201T080000Z
UID:e13852
DTSTAMP:20260422T101419Z
LOCATION:Dolfi and Lola Ebner Auditorium
DESCRIPTION:Life Sciences Colloquium
SUMMARY:Life Sciences Colloquium
END:VEVENT
END:VCALENDAR