BEGIN:VCALENDAR
VERSION:2.0
PRODID:-//hacksw/handcal//NONSGML v1.0//EN
CALSCALE:GREGORIAN
BEGIN:VEVENT
DTSTART:20140311T090000Z
DTEND:20140311T103000Z
UID:e13930
DTSTAMP:20260421T222926Z
LOCATION:Dolfi and Lola Ebner Auditorium
DESCRIPTION:Soft Matter: From Hieroglyphics to Hard Drives
SUMMARY:Soft Matter: From Hieroglyphics to Hard Drives
END:VEVENT
END:VCALENDAR