BEGIN:VCALENDAR
VERSION:2.0
PRODID:-//hacksw/handcal//NONSGML v1.0//EN
CALSCALE:GREGORIAN
BEGIN:VEVENT
DTSTART:20131222T113000Z
DTEND:20131222T130000Z
UID:e14145
DTSTAMP:20260420T041328Z
LOCATION:Edna and K.B. Weissman Building of Physical Sciences
DESCRIPTION:Research of ns-timescale electrical discharge in pressurized gases
SUMMARY:Research of ns-timescale electrical discharge in pressurized gases
END:VEVENT
END:VCALENDAR