BEGIN:VCALENDAR
VERSION:2.0
PRODID:-//hacksw/handcal//NONSGML v1.0//EN
CALSCALE:GREGORIAN
BEGIN:VEVENT
DTSTART:20131231T093000Z
DTEND:20131231T093000Z
UID:e14229
DTSTAMP:20260422T152635Z
LOCATION:Gerhard M.J. Schmidt Lecture Hall
DESCRIPTION:The Simultaneous Type/Serial Token Model of temporal attention and working memory encoding\, with applications in brain-computer interaction and lie detection
SUMMARY:The Simultaneous Type/Serial Token Model of temporal attention and working memory encoding\, with applications in brain-computer interaction and lie detection
END:VEVENT
END:VCALENDAR