BEGIN:VCALENDAR
VERSION:2.0
PRODID:-//hacksw/handcal//NONSGML v1.0//EN
CALSCALE:GREGORIAN
BEGIN:VEVENT
DTSTART:20140206T111500Z
DTEND:20140206T111500Z
UID:e14352
DTSTAMP:20260422T012906Z
LOCATION:Edna and K.B. Weissman Building of Physical Sciences
DESCRIPTION:What&#8217\;s the Meta?
SUMMARY:What&#8217\;s the Meta?
END:VEVENT
END:VCALENDAR