BEGIN:VCALENDAR
VERSION:2.0
PRODID:-//hacksw/handcal//NONSGML v1.0//EN
CALSCALE:GREGORIAN
BEGIN:VEVENT
DTSTART:19691231T160000Z
DTEND:19691231T160000Z
UID:e14430
DTSTAMP:20260419T132248Z
LOCATION:Jacob Ziskind Building
DESCRIPTION:slow-fast Phenomema workshop
SUMMARY:slow-fast Phenomema workshop
END:VEVENT
END:VCALENDAR