BEGIN:VCALENDAR
VERSION:2.0
PRODID:-//hacksw/handcal//NONSGML v1.0//EN
CALSCALE:GREGORIAN
BEGIN:VEVENT
DTSTART:20140227T081500Z
DTEND:20140227T093000Z
UID:e14496
DTSTAMP:20260421T024527Z
LOCATION:Edna and K.B. Weissman Building of Physical Sciences
DESCRIPTION:EXPERIMENTA OBSERVATION OF STEADY INERTIAL WAVE TURBULENCE IN DEEP ROTATING FLOWS
SUMMARY:EXPERIMENTA OBSERVATION OF STEADY INERTIAL WAVE TURBULENCE IN DEEP ROTATING FLOWS
END:VEVENT
END:VCALENDAR