BEGIN:VCALENDAR
VERSION:2.0
PRODID:-//hacksw/handcal//NONSGML v1.0//EN
CALSCALE:GREGORIAN
BEGIN:VEVENT
DTSTART:20070807T080000Z
DTEND:20070807T080000Z
UID:e5647
DTSTAMP:20260420T031216Z
LOCATION:Jacob Ziskind Building
DESCRIPTION:A discontinuous Galerkin method for the approximation of collisionless plasmas
SUMMARY:A discontinuous Galerkin method for the approximation of collisionless plasmas
END:VEVENT
END:VCALENDAR