BEGIN:VCALENDAR
VERSION:2.0
PRODID:-//hacksw/handcal//NONSGML v1.0//EN
CALSCALE:GREGORIAN
BEGIN:VEVENT
DTSTART:20070902T080000Z
DTEND:20070902T080000Z
UID:e5687
DTSTAMP:20260420T215330Z
LOCATION:Sussman Family Building for Environmental Sciences
DESCRIPTION:Student Seminar - Organic Chemistry
SUMMARY:Student Seminar - Organic Chemistry
END:VEVENT
END:VCALENDAR