BEGIN:VCALENDAR
VERSION:2.0
PRODID:-//hacksw/handcal//NONSGML v1.0//EN
CALSCALE:GREGORIAN
BEGIN:VEVENT
DTSTART:20070904T080000Z
DTEND:20070904T080000Z
UID:e5691
DTSTAMP:20260420T102824Z
LOCATION:Perlman Chemical Sciences Building
DESCRIPTION:Organic Chemistry - Students Seminar
SUMMARY:Organic Chemistry - Students Seminar
END:VEVENT
END:VCALENDAR