BEGIN:VCALENDAR
VERSION:2.0
PRODID:-//hacksw/handcal//NONSGML v1.0//EN
CALSCALE:GREGORIAN
BEGIN:VEVENT
DTSTART:20071030T083000Z
DTEND:20071030T093000Z
UID:e5711
DTSTAMP:20260420T215302Z
LOCATION:Ullmann Building of Life Sciences
DESCRIPTION:"Terpenoid Biotechnology to Improve Tomato Flavor. One Gene - Many Phenotypes?"
SUMMARY:"Terpenoid Biotechnology to Improve Tomato Flavor. One Gene - Many Phenotypes?"
END:VEVENT
END:VCALENDAR