BEGIN:VCALENDAR
VERSION:2.0
PRODID:-//hacksw/handcal//NONSGML v1.0//EN
CALSCALE:GREGORIAN
BEGIN:VEVENT
DTSTART:19691231T160000Z
DTEND:19691231T160000Z
UID:e5717
DTSTAMP:20260420T215258Z
LOCATION:
DESCRIPTION:Israel Symposium On Computational Mechanics
SUMMARY:Israel Symposium On Computational Mechanics
END:VEVENT
END:VCALENDAR