BEGIN:VCALENDAR
VERSION:2.0
PRODID:-//hacksw/handcal//NONSGML v1.0//EN
CALSCALE:GREGORIAN
BEGIN:VEVENT
DTSTART:20071010T120000Z
DTEND:20071010T120000Z
UID:e5719
DTSTAMP:20260421T220949Z
LOCATION:Wolfson Building for Biological Research
DESCRIPTION:A model for initiation of mosaic HOX gene expression patterns by non-coding RNAs and Trithorax-group proteins in early embryos
SUMMARY:A model for initiation of mosaic HOX gene expression patterns by non-coding RNAs and Trithorax-group proteins in early embryos
END:VEVENT
END:VCALENDAR