BEGIN:VCALENDAR
VERSION:2.0
PRODID:-//hacksw/handcal//NONSGML v1.0//EN
CALSCALE:GREGORIAN
BEGIN:VEVENT
DTSTART:20071031T143000Z
DTEND:20071031T143000Z
UID:e5751
DTSTAMP:20260421T034221Z
LOCATION:
DESCRIPTION:Children's Musical Theatre - &quot\;Shmulik Kipod&quot\;
SUMMARY:Children's Musical Theatre - &quot\;Shmulik Kipod&quot\;
END:VEVENT
END:VCALENDAR