BEGIN:VCALENDAR
VERSION:2.0
PRODID:-//hacksw/handcal//NONSGML v1.0//EN
CALSCALE:GREGORIAN
BEGIN:VEVENT
DTSTART:20071112T080000Z
DTEND:20071112T080000Z
UID:e5759
DTSTAMP:20260420T102825Z
LOCATION:Gerhard M.J. Schmidt Lecture Hall
DESCRIPTION:Physical Views of the Biology\, Geology and Chemistry of Earth's Carbon Cycle
SUMMARY:Physical Views of the Biology\, Geology and Chemistry of Earth's Carbon Cycle
END:VEVENT
END:VCALENDAR