BEGIN:VCALENDAR
VERSION:2.0
PRODID:-//hacksw/handcal//NONSGML v1.0//EN
CALSCALE:GREGORIAN
BEGIN:VEVENT
DTSTART:20071010T080000Z
DTEND:20071010T080000Z
UID:e5781
DTSTAMP:20260421T034221Z
LOCATION:Perlman Chemical Sciences Building
DESCRIPTION:Theory and Applications of Nanoindentation of Solids
SUMMARY:Theory and Applications of Nanoindentation of Solids
END:VEVENT
END:VCALENDAR