BEGIN:VCALENDAR
VERSION:2.0
PRODID:-//hacksw/handcal//NONSGML v1.0//EN
CALSCALE:GREGORIAN
BEGIN:VEVENT
DTSTART:20070123T073000Z
DTEND:20070123T073000Z
UID:e5815
DTSTAMP:20260422T043242Z
LOCATION:
DESCRIPTION:SUPERSYMMETRIC GIANT GRAVITON SOLUTIONS IN ADS_3
SUMMARY:SUPERSYMMETRIC GIANT GRAVITON SOLUTIONS IN ADS_3
END:VEVENT
END:VCALENDAR