BEGIN:VCALENDAR
VERSION:2.0
PRODID:-//hacksw/handcal//NONSGML v1.0//EN
CALSCALE:GREGORIAN
BEGIN:VEVENT
DTSTART:19691231T160000Z
DTEND:19691231T160000Z
UID:e5911
DTSTAMP:20260420T214402Z
LOCATION:
DESCRIPTION:The 3rd Schwartz Family International Leading Science Teachers Seminar
SUMMARY:The 3rd Schwartz Family International Leading Science Teachers Seminar
END:VEVENT
END:VCALENDAR