BEGIN:VCALENDAR
VERSION:2.0
PRODID:-//hacksw/handcal//NONSGML v1.0//EN
CALSCALE:GREGORIAN
BEGIN:VEVENT
DTSTART:20071220T120000Z
DTEND:20071220T120000Z
UID:e6139
DTSTAMP:20260420T230034Z
LOCATION:Wolfson Building for Biological Research
DESCRIPTION:Regulation of the Actin Cytoskeleton Through Two Distinct Signaling systems: The Src Adapter Protein 3BP2 and the RhoGEF LFC
SUMMARY:Regulation of the Actin Cytoskeleton Through Two Distinct Signaling systems: The Src Adapter Protein 3BP2 and the RhoGEF LFC
END:VEVENT
END:VCALENDAR