BEGIN:VCALENDAR
VERSION:2.0
PRODID:-//hacksw/handcal//NONSGML v1.0//EN
CALSCALE:GREGORIAN
BEGIN:VEVENT
DTSTART:20080110T100000Z
DTEND:20080110T100000Z
UID:e6273
DTSTAMP:20260421T000010Z
LOCATION:Edna and K.B. Weissman Building of Physical Sciences
DESCRIPTION:Hebrew as Myth : The Genesis of the Israeli Language
SUMMARY:Hebrew as Myth : The Genesis of the Israeli Language
END:VEVENT
END:VCALENDAR