BEGIN:VCALENDAR
VERSION:2.0
PRODID:-//hacksw/handcal//NONSGML v1.0//EN
CALSCALE:GREGORIAN
BEGIN:VEVENT
DTSTART:20080412T173000Z
DTEND:20080412T173000Z
UID:e6611
DTSTAMP:20260420T035104Z
LOCATION:
DESCRIPTION:Cameri Theater Series - "The Marriage Certificate"
SUMMARY:Cameri Theater Series - "The Marriage Certificate"
END:VEVENT
END:VCALENDAR