BEGIN:VCALENDAR
VERSION:2.0
PRODID:-//hacksw/handcal//NONSGML v1.0//EN
CALSCALE:GREGORIAN
BEGIN:VEVENT
DTSTART:20080401T091500Z
DTEND:20080401T091500Z
UID:e6619
DTSTAMP:20260420T190708Z
LOCATION:Jacob Ziskind Building
DESCRIPTION:Astrocytes Regulation of Information Processing
SUMMARY:Astrocytes Regulation of Information Processing
END:VEVENT
END:VCALENDAR