BEGIN:VCALENDAR
VERSION:2.0
PRODID:-//hacksw/handcal//NONSGML v1.0//EN
CALSCALE:GREGORIAN
BEGIN:VEVENT
DTSTART:20080414T070000Z
DTEND:20080414T080000Z
UID:e6653
DTSTAMP:20260419T203412Z
LOCATION:Arthur and Rochelle Belfer Building for Biomedical Research
DESCRIPTION:Prediction of regulatory regions:  from DNA sequence analysis to recognition of structural codes for specific protein-DNA binding.
SUMMARY:Prediction of regulatory regions:  from DNA sequence analysis to recognition of structural codes for specific protein-DNA binding.
END:VEVENT
END:VCALENDAR