BEGIN:VCALENDAR
VERSION:2.0
PRODID:-//hacksw/handcal//NONSGML v1.0//EN
CALSCALE:GREGORIAN
BEGIN:VEVENT
DTSTART:20080501T120000Z
DTEND:20080501T120000Z
UID:e6669
DTSTAMP:20260421T034221Z
LOCATION:Wolfson Building for Biological Research
DESCRIPTION:PI3K as drug targets and beyond: a view from gene targeted mice
SUMMARY:PI3K as drug targets and beyond: a view from gene targeted mice
END:VEVENT
END:VCALENDAR