BEGIN:VCALENDAR
VERSION:2.0
PRODID:-//hacksw/handcal//NONSGML v1.0//EN
CALSCALE:GREGORIAN
BEGIN:VEVENT
DTSTART:20081002T090000Z
DTEND:20081002T090000Z
UID:e7071
DTSTAMP:20260422T181257Z
LOCATION:Jacob Ziskind Building
DESCRIPTION:Shape from planarity\, smoothness\, and discrete constraints
SUMMARY:Shape from planarity\, smoothness\, and discrete constraints
END:VEVENT
END:VCALENDAR