BEGIN:VCALENDAR
VERSION:2.0
PRODID:-//hacksw/handcal//NONSGML v1.0//EN
CALSCALE:GREGORIAN
BEGIN:VEVENT
DTSTART:20080915T080000Z
DTEND:20080915T080000Z
UID:e7099
DTSTAMP:20260420T214359Z
LOCATION:Perlman Chemical Sciences Building
DESCRIPTION:From sorting of carbon nanotubes to assembling of electronic devices
SUMMARY:From sorting of carbon nanotubes to assembling of electronic devices
END:VEVENT
END:VCALENDAR