BEGIN:VCALENDAR
VERSION:2.0
PRODID:-//hacksw/handcal//NONSGML v1.0//EN
CALSCALE:GREGORIAN
BEGIN:VEVENT
DTSTART:20081209T060000Z
DTEND:20081209T060000Z
UID:e7117
DTSTAMP:20260420T102825Z
LOCATION:Wolfson Building for Biological Research
DESCRIPTION:Fragile control of tissue homeostasis in the mouse gut: the unbearable lightness of developing cancer
SUMMARY:Fragile control of tissue homeostasis in the mouse gut: the unbearable lightness of developing cancer
END:VEVENT
END:VCALENDAR