BEGIN:VCALENDAR
VERSION:2.0
PRODID:-//hacksw/handcal//NONSGML v1.0//EN
CALSCALE:GREGORIAN
BEGIN:VEVENT
DTSTART:20081122T170000Z
DTEND:20081122T170000Z
UID:e7237
DTSTAMP:20260421T222127Z
LOCATION:
DESCRIPTION:Concert by Timor Schaub
SUMMARY:Concert by Timor Schaub
END:VEVENT
END:VCALENDAR