BEGIN:VCALENDAR
VERSION:2.0
PRODID:-//hacksw/handcal//NONSGML v1.0//EN
CALSCALE:GREGORIAN
BEGIN:VEVENT
DTSTART:20081128T074500Z
DTEND:20081128T074500Z
UID:e7371
DTSTAMP:20260420T214356Z
LOCATION:Jacob Ziskind Building
DESCRIPTION:Real Riemann-Roch 
SUMMARY:Real Riemann-Roch 
END:VEVENT
END:VCALENDAR