BEGIN:VCALENDAR
VERSION:2.0
PRODID:-//hacksw/handcal//NONSGML v1.0//EN
CALSCALE:GREGORIAN
BEGIN:VEVENT
DTSTART:20081214T101500Z
DTEND:20081214T101500Z
UID:e7431
DTSTAMP:20260421T172925Z
LOCATION:Edna and K.B. Weissman Building of Physical Sciences
DESCRIPTION:Molecular interactions of human papillomavirus E6 and E7 oncoproteins: implications for carcinogenesis
SUMMARY:Molecular interactions of human papillomavirus E6 and E7 oncoproteins: implications for carcinogenesis
END:VEVENT
END:VCALENDAR