BEGIN:VCALENDAR
VERSION:2.0
PRODID:-//hacksw/handcal//NONSGML v1.0//EN
CALSCALE:GREGORIAN
BEGIN:VEVENT
DTSTART:20090120T080000Z
DTEND:20090120T080000Z
UID:e7507
DTSTAMP:20260421T200047Z
LOCATION:Perlman Chemical Sciences Building
DESCRIPTION:Entropy in Crystal Nucleation of Hard Spheres
SUMMARY:Entropy in Crystal Nucleation of Hard Spheres
END:VEVENT
END:VCALENDAR