BEGIN:VCALENDAR
VERSION:2.0
PRODID:-//hacksw/handcal//NONSGML v1.0//EN
CALSCALE:GREGORIAN
BEGIN:VEVENT
DTSTART:20090330T173000Z
DTEND:20090330T173000Z
UID:e7827
DTSTAMP:20260420T215301Z
LOCATION:
DESCRIPTION:Habima Theater - "The Mother-in-law"
SUMMARY:Habima Theater - "The Mother-in-law"
END:VEVENT
END:VCALENDAR