BEGIN:VCALENDAR
VERSION:2.0
PRODID:-//hacksw/handcal//NONSGML v1.0//EN
CALSCALE:GREGORIAN
BEGIN:VEVENT
DTSTART:20090420T070000Z
DTEND:20090420T080000Z
UID:e7931
DTSTAMP:20260420T202808Z
LOCATION:Arthur and Rochelle Belfer Building for Biomedical Research
DESCRIPTION: (Proteins are) Bridge over interfaces: On the dynamics of protein at surfaces
SUMMARY: (Proteins are) Bridge over interfaces: On the dynamics of protein at surfaces
END:VEVENT
END:VCALENDAR