BEGIN:VCALENDAR
VERSION:2.0
PRODID:-//hacksw/handcal//NONSGML v1.0//EN
CALSCALE:GREGORIAN
BEGIN:VEVENT
DTSTART:20090524T101500Z
DTEND:20090524T113000Z
UID:e8105
DTSTAMP:20260421T022421Z
LOCATION:Edna and K.B. Weissman Building of Physical Sciences
DESCRIPTION:Cooperative effects in interacting motor-filaments systems
SUMMARY:Cooperative effects in interacting motor-filaments systems
END:VEVENT
END:VCALENDAR