BEGIN:VCALENDAR
VERSION:2.0
PRODID:-//hacksw/handcal//NONSGML v1.0//EN
CALSCALE:GREGORIAN
BEGIN:VEVENT
DTSTART:20090517T060000Z
DTEND:20090517T060000Z
UID:e8117
DTSTAMP:20260419T144514Z
LOCATION:Gerhard M.J. Schmidt Lecture Hall
DESCRIPTION:Dipole recoupling and dynamic nuclear polarization in MAS experiments at high magnetic fields
SUMMARY:Dipole recoupling and dynamic nuclear polarization in MAS experiments at high magnetic fields
END:VEVENT
END:VCALENDAR