BEGIN:VCALENDAR
VERSION:2.0
PRODID:-//hacksw/handcal//NONSGML v1.0//EN
CALSCALE:GREGORIAN
BEGIN:VEVENT
DTSTART:20090603T160000Z
DTEND:20090603T160000Z
UID:e8197
DTSTAMP:20260421T191244Z
LOCATION:Dolfi and Lola Ebner Auditorium
DESCRIPTION:Cinemateque Quality Film Club Series
SUMMARY:Cinemateque Quality Film Club Series
END:VEVENT
END:VCALENDAR