BEGIN:VCALENDAR
VERSION:2.0
PRODID:-//hacksw/handcal//NONSGML v1.0//EN
CALSCALE:GREGORIAN
BEGIN:VEVENT
DTSTART:20091221T070000Z
DTEND:20091221T070000Z
UID:e8527
DTSTAMP:20260422T005345Z
LOCATION:Ullmann Building of Life Sciences
DESCRIPTION:Advanced Quantitative Proteomics in Complex Samples using nanoLC-MS/MS 
SUMMARY:Advanced Quantitative Proteomics in Complex Samples using nanoLC-MS/MS 
END:VEVENT
END:VCALENDAR