BEGIN:VCALENDAR
VERSION:2.0
PRODID:-//hacksw/handcal//NONSGML v1.0//EN
CALSCALE:GREGORIAN
BEGIN:VEVENT
DTSTART:20091027T103000Z
DTEND:20091027T103000Z
UID:e8551
DTSTAMP:20260419T221902Z
LOCATION:Wolfson Building for Biological Research
DESCRIPTION:"Interplay Between Bacterial Molecules And Host Innate Immunity"
SUMMARY:"Interplay Between Bacterial Molecules And Host Innate Immunity"
END:VEVENT
END:VCALENDAR